BEGIN:VCALENDAR
VERSION:2.0
PRODID:-//Bike Tahoe - ECPv6.15.20//NONSGML v1.0//EN
CALSCALE:GREGORIAN
METHOD:PUBLISH
X-WR-CALNAME:Bike Tahoe
X-ORIGINAL-URL:https://biketahoe.org
X-WR-CALDESC:Events for Bike Tahoe
REFRESH-INTERVAL;VALUE=DURATION:PT1H
X-Robots-Tag:noindex
X-PUBLISHED-TTL:PT1H
BEGIN:VTIMEZONE
TZID:UTC
BEGIN:STANDARD
TZOFFSETFROM:+0000
TZOFFSETTO:+0000
TZNAME:UTC
DTSTART:20240101T000000
END:STANDARD
END:VTIMEZONE
BEGIN:VEVENT
DTSTART;VALUE=DATE:20250823
DTEND;VALUE=DATE:20250824
DTSTAMP:20260420T094545
CREATED:20250808T171556Z
LAST-MODIFIED:20250808T171556Z
UID:5416-1755907200-1755993599@biketahoe.org
SUMMARY:CVTA Spoker Ride
DESCRIPTION:Registration is open for the Carson Valley Trails Association’s first ever Spoker Ride to be held August 23rd at James Lee Park in Indian Hills! \nAll ages and abilities welcome at this 10 mile poker run mountain bike ride through well groomed CVTA trails. Jokers are wild and the top three winning hands will receive prize packages of cash\, merchandise and gift certificates from local sponsors. \nWe will have food and beverage vending after the ride by Bubbly’s Kitchen and Double Barrel Draft Wagon. \nRegistor online here
URL:https://biketahoe.org/event/cvta-spoker-ride/
LOCATION:James Lee Park\, James Lee Park Rd\, Carson Valley\, 89705\, United States
CATEGORIES:Community Event,Mountain Bike,Mountain Bike Race,XC Race
ATTACH;FMTTYPE=image/png:https://biketahoe.org/wp-content/uploads/2025/08/poker-ride.png
END:VEVENT
END:VCALENDAR