BEGIN:VCALENDAR
VERSION:2.0
PRODID:-//Bike Tahoe - ECPv6.15.20//NONSGML v1.0//EN
CALSCALE:GREGORIAN
METHOD:PUBLISH
X-ORIGINAL-URL:https://biketahoe.org
X-WR-CALDESC:Events for Bike Tahoe
REFRESH-INTERVAL;VALUE=DURATION:PT1H
X-Robots-Tag:noindex
X-PUBLISHED-TTL:PT1H
BEGIN:VTIMEZONE
TZID:America/Los_Angeles
BEGIN:DAYLIGHT
TZOFFSETFROM:-0800
TZOFFSETTO:-0700
TZNAME:PDT
DTSTART:20250309T100000
END:DAYLIGHT
BEGIN:STANDARD
TZOFFSETFROM:-0700
TZOFFSETTO:-0800
TZNAME:PST
DTSTART:20251102T090000
END:STANDARD
BEGIN:DAYLIGHT
TZOFFSETFROM:-0800
TZOFFSETTO:-0700
TZNAME:PDT
DTSTART:20260308T100000
END:DAYLIGHT
BEGIN:STANDARD
TZOFFSETFROM:-0700
TZOFFSETTO:-0800
TZNAME:PST
DTSTART:20261101T090000
END:STANDARD
BEGIN:DAYLIGHT
TZOFFSETFROM:-0800
TZOFFSETTO:-0700
TZNAME:PDT
DTSTART:20270314T100000
END:DAYLIGHT
BEGIN:STANDARD
TZOFFSETFROM:-0700
TZOFFSETTO:-0800
TZNAME:PST
DTSTART:20271107T090000
END:STANDARD
END:VTIMEZONE
BEGIN:VEVENT
DTSTART;VALUE=DATE:20260516
DTEND;VALUE=DATE:20260517
DTSTAMP:20260421T172543
CREATED:20250418T205646Z
LAST-MODIFIED:20260417T131029Z
UID:4504-1778889600-1778975999@biketahoe.org
SUMMARY:Stetina's Paydirt Gravel Race
DESCRIPTION:A legendary expedition deep in the Pine Nut Mountains. Maybe the most untraditional gravel event you’ll do. Three timed segments. Two beautiful and challenging courses. And one mechanical bull! Stetina’s Paydirt in Carson City\, Nevada is a gravel race like no other.
URL:https://biketahoe.org/event/stetinas-paydirt-gravel-race/
LOCATION:Fuji Park\, 601 Old Clear Creek Rd\, Carson City\, NV\, 89701\, United States
CATEGORIES:Gravel Race,Races
ATTACH;FMTTYPE=image/jpeg:https://biketahoe.org/wp-content/uploads/2025/04/stetinas-gravel-race-carson-city-nevada.jpg
END:VEVENT
END:VCALENDAR