BEGIN:VCALENDAR
VERSION:2.0
PRODID:-//Bike Tahoe - ECPv6.15.20//NONSGML v1.0//EN
CALSCALE:GREGORIAN
METHOD:PUBLISH
X-ORIGINAL-URL:https://biketahoe.org
X-WR-CALDESC:Events for Bike Tahoe
REFRESH-INTERVAL;VALUE=DURATION:PT1H
X-Robots-Tag:noindex
X-PUBLISHED-TTL:PT1H
BEGIN:VTIMEZONE
TZID:UTC
BEGIN:STANDARD
TZOFFSETFROM:+0000
TZOFFSETTO:+0000
TZNAME:UTC
DTSTART:20240101T000000
END:STANDARD
END:VTIMEZONE
BEGIN:VEVENT
DTSTART;VALUE=DATE:20250712
DTEND;VALUE=DATE:20250713
DTSTAMP:20260422T102947
CREATED:20250418T220817Z
LAST-MODIFIED:20250630T183258Z
UID:4531-1752278400-1752364799@biketahoe.org
SUMMARY:44th Annual Death Ride: Tour of the California Alps
DESCRIPTION:Join us for the 44th annual Death Ride! Challenge yourself to the premier cycling event in California. The route offers over 14\,000′ of climbing\, 103 miles\, and up to six (6) HC Alpine climbs. This ride is sure to challenge you\, inspire you\, and leave you wanting more.
URL:https://biketahoe.org/event/death-ride-tour-of-the-california-alps/
LOCATION:Death Ride Start\, Webster St\, Markleeville\, CA\, 96120\, United States
CATEGORIES:Races,Road Race
ATTACH;FMTTYPE=image/jpeg:https://biketahoe.org/wp-content/uploads/2025/04/death-ride-califronia-alps.jpg
END:VEVENT
END:VCALENDAR