BEGIN:VCALENDAR
VERSION:2.0
PRODID:-//Bike Tahoe - ECPv6.15.20//NONSGML v1.0//EN
CALSCALE:GREGORIAN
METHOD:PUBLISH
X-ORIGINAL-URL:https://biketahoe.org
X-WR-CALDESC:Events for Bike Tahoe
REFRESH-INTERVAL;VALUE=DURATION:PT1H
X-Robots-Tag:noindex
X-PUBLISHED-TTL:PT1H
BEGIN:VTIMEZONE
TZID:UTC
BEGIN:STANDARD
TZOFFSETFROM:+0000
TZOFFSETTO:+0000
TZNAME:UTC
DTSTART:20240101T000000
END:STANDARD
END:VTIMEZONE
BEGIN:VEVENT
DTSTART;TZID=UTC:20250717T090000
DTEND;TZID=UTC:20250717T120000
DTSTAMP:20260420T040833
CREATED:20250617T203317Z
LAST-MODIFIED:20250630T182742Z
UID:5254-1752742800-1752753600@biketahoe.org
SUMMARY:Truckee Bike Park Kids Bike Skills Camps
DESCRIPTION:Truckee Bike Park Kids Bike Skill Building Camp: Ages (8-17). Our Skills Camps encourage all riders at every skill level; beginner\, intermediate\, or expert to build their skills\, boost their confidence\, and progress their riding in an inclusive\, fun park environment. We will help your child progress and improve on their fundamental skills\, cornering techniques\, pumping rhythms\, jumping safely\, and much more!  \nThe camp meets Wednesdays and Thursdays for 6 weeks throughout the summer.  \nSign up for one\, or many of our summer session dates!
URL:https://biketahoe.org/event/truckee-bike-park-kids-bike-skills-camps/2025-07-17/
LOCATION:Truckee Bike Park\, 12200 Joerger Dr\, Truckee\, CA\, 96161\, United States
CATEGORIES:Dirt Jump/BMX,Kid's Events,Mountain Bike,Skills Clinic,Truckee Bike Park
ATTACH;FMTTYPE=image/png:https://biketahoe.org/wp-content/uploads/2025/06/truckee-bike-park-kids-skills-camps.png
END:VEVENT
BEGIN:VEVENT
DTSTART;TZID=UTC:20250717T170000
DTEND;TZID=UTC:20250717T200000
DTSTAMP:20260420T040833
CREATED:20250605T003530Z
LAST-MODIFIED:20250617T200648Z
UID:5089-1752771600-1752782400@biketahoe.org
SUMMARY:Sky Tavern Women's Skills Clinic
DESCRIPTION:Sky Tavern Riders in the Sky Girls’s and Women’s mountain bike skills clinics are led by professional\, certified mountain bike coaches. Affordably priced for accessibility to the community\, students will learn on-trail fundamentals and progressive techniques while building confidence\, all in the name of FUN! Our programs are specifically designed for Women-Inclusive\, Youth (ages 8-13)\, and Open classes.
URL:https://biketahoe.org/event/riders-in-the-sky-womens-clinic/2025-07-17/
LOCATION:Sky Tavern Bike Park\, 21130 Mt Rose Hwy\, Reno\, NV\, 89511\, United States
CATEGORIES:Mountain Bike,Skills Clinic,Sky Tavern Bike Park,Women's Event
ATTACH;FMTTYPE=image/png:https://biketahoe.org/wp-content/uploads/2025/06/sky-tavern-mtb-skills-clinic-women.png
END:VEVENT
END:VCALENDAR