BEGIN:VCALENDAR
VERSION:2.0
PRODID:-//Bike Tahoe - ECPv6.15.20//NONSGML v1.0//EN
CALSCALE:GREGORIAN
METHOD:PUBLISH
X-WR-CALNAME:Bike Tahoe
X-ORIGINAL-URL:https://biketahoe.org
X-WR-CALDESC:Events for Bike Tahoe
REFRESH-INTERVAL;VALUE=DURATION:PT1H
X-Robots-Tag:noindex
X-PUBLISHED-TTL:PT1H
BEGIN:VTIMEZONE
TZID:UTC
BEGIN:STANDARD
TZOFFSETFROM:+0000
TZOFFSETTO:+0000
TZNAME:UTC
DTSTART:20240101T000000
END:STANDARD
END:VTIMEZONE
BEGIN:VEVENT
DTSTART;VALUE=DATE:20250711
DTEND;VALUE=DATE:20250712
DTSTAMP:20260423T221938
CREATED:20250516T164909Z
LAST-MODIFIED:20250516T165434Z
UID:4649-1752192000-1752278399@biketahoe.org
SUMMARY:Northstar Mini Enduro Race Series
DESCRIPTION:The Mini Enduro Series is a community-driven event that aims to seamlessly transition riders from the local Tahoe trails to the exhilarating Northstar Downhill Park. It features a thoughtfully curated selection of trails tailored for intermediate riders of all ages. At its core\, the event fosters a spirit of progressive enjoyment\, uniting local friends and families in a celebration of mountain biking. It’s an opportunity to strengthen bonds with old friends and forge new connections\, all while reveling in the shared passion for the sport. \nFriday\, July 11: Course #1 2 stages: Livewire (Zone 4 & 5) and Lower Coaster
URL:https://biketahoe.org/event/northstar-mini-enduro-race-series/
LOCATION:Northstar California\, 5001 Northstar Dr\, Truckee\, CA\, 96161\, United States
CATEGORIES:Mountain Bike Race,Northstar Bike Park,Races
ATTACH;FMTTYPE=image/jpeg:https://biketahoe.org/wp-content/uploads/2025/05/northstar-mini-enduro-race-series.jpg
END:VEVENT
END:VCALENDAR