BEGIN:VCALENDAR
VERSION:2.0
PRODID:-//Bike Tahoe - ECPv6.15.20//NONSGML v1.0//EN
CALSCALE:GREGORIAN
METHOD:PUBLISH
X-ORIGINAL-URL:https://biketahoe.org
X-WR-CALDESC:Events for Bike Tahoe
REFRESH-INTERVAL;VALUE=DURATION:PT1H
X-Robots-Tag:noindex
X-PUBLISHED-TTL:PT1H
BEGIN:VTIMEZONE
TZID:UTC
BEGIN:STANDARD
TZOFFSETFROM:+0000
TZOFFSETTO:+0000
TZNAME:UTC
DTSTART:20240101T000000
END:STANDARD
END:VTIMEZONE
BEGIN:VEVENT
DTSTART;VALUE=DATE:20250927
DTEND;VALUE=DATE:20250928
DTSTAMP:20260421T190535
CREATED:20250424T184827Z
LAST-MODIFIED:20250630T182148Z
UID:4580-1758931200-1759017599@biketahoe.org
SUMMARY:The Great Trail Race Tahoe Truckee
DESCRIPTION:Gravel Bike\, Mountain Bike\, or Trail Run between Truckee and Tahoe City\, California.\nThe Great Trail Race is an exciting point-to-point event between Truckee and Tahoe City\, CA. Participants can choose to gravel bike\, mountain bike\, or trail run on this stunning course. Two options are available: the Elite course and the Classic course.
URL:https://biketahoe.org/event/the-great-trail-race-tahoe-truckee/
LOCATION:Tahoe Cross Country Center\, 925 Country Club Dr\, Tahoe City\, CA\, 96145\, United States
CATEGORIES:Gravel Race,Mountain Bike,Mountain Bike Race
ATTACH;FMTTYPE=image/jpeg:https://biketahoe.org/wp-content/uploads/2025/04/great-trail-race-tahoe.jpg
END:VEVENT
BEGIN:VEVENT
DTSTART;VALUE=DATE:20250927
DTEND;VALUE=DATE:20250929
DTSTAMP:20260421T190535
CREATED:20250805T192521Z
LAST-MODIFIED:20250805T193123Z
UID:5395-1758931200-1759103999@biketahoe.org
SUMMARY:Tahoe Games Mountain Sports Festival
DESCRIPTION:The Tahoe Games Mountain Sports Festival is taking over the Lake Tahoe Amphitheatre at Caesars Republic for two days of non-stop music\, mountain sports & community! Mountain Sports Festival features live performances from The Expendables\, Jakobs Castle\, and more — plus a pro big air mountain bike comp\, daily yoga sessions\, a ski & snowboard rail jam\, snow sledding\, live art\, and a vendor village packed with food trucks and outdoor gear. \n\nPro MTB Big Air Comp\nLive Music\nMorning Yoga\nKids Bike Jump Jam\nSki & Snowboard Rail Jam\nSnow Sledding\nLive Art\nVendor & Food Trucks
URL:https://biketahoe.org/event/tahoe-games-mountain-sports-festival/
LOCATION:Lake Tahoe Amphitheatre\, US Hwy 50\, Stateline\, CA\, 89449\, United States
CATEGORIES:Bike Festivals,Community Event,Dirt Jump/BMX,Mountain Bike,Music & Concerts
ATTACH;FMTTYPE=image/png:https://biketahoe.org/wp-content/uploads/2025/08/tahoe-mountain-games-2025.png
END:VEVENT
END:VCALENDAR