BEGIN:VCALENDAR
VERSION:2.0
PRODID:-//Bike Tahoe - ECPv6.15.20//NONSGML v1.0//EN
CALSCALE:GREGORIAN
METHOD:PUBLISH
X-ORIGINAL-URL:https://biketahoe.org
X-WR-CALDESC:Events for Bike Tahoe
REFRESH-INTERVAL;VALUE=DURATION:PT1H
X-Robots-Tag:noindex
X-PUBLISHED-TTL:PT1H
BEGIN:VTIMEZONE
TZID:UTC
BEGIN:STANDARD
TZOFFSETFROM:+0000
TZOFFSETTO:+0000
TZNAME:UTC
DTSTART:20240101T000000
END:STANDARD
END:VTIMEZONE
BEGIN:VEVENT
DTSTART;VALUE=DATE:20250913
DTEND;VALUE=DATE:20250914
DTSTAMP:20260421T191712
CREATED:20250617T204703Z
LAST-MODIFIED:20250630T182411Z
UID:5271-1757721600-1757807999@biketahoe.org
SUMMARY:Northstar Cross Country Race
DESCRIPTION:New for 2025\, Northstar is excited to introduce a Cross-Country event to the Northstar race lineup. This exhilarating and demanding race challenges riders to traverse diverse terrains\, ranging from steep ascents to tricky descents\, all while maintaining their speed and endurance. With stunning scenery and an adventurous spirit\, this event promises to be enjoyable for riders of all ages.
URL:https://biketahoe.org/event/northstar-cross-country-race/
LOCATION:Northstar California\, 5001 Northstar Dr\, Truckee\, CA\, 96161\, United States
CATEGORIES:Mountain Bike,Mountain Bike Race,Northstar Bike Park,XC Race
ATTACH;FMTTYPE=image/jpeg:https://biketahoe.org/wp-content/uploads/2025/04/tahoe-traail-leadville-series.jpg
END:VEVENT
END:VCALENDAR