BEGIN:VCALENDAR
VERSION:2.0
PRODID:-//Bike Tahoe - ECPv6.15.20//NONSGML v1.0//EN
CALSCALE:GREGORIAN
METHOD:PUBLISH
X-ORIGINAL-URL:https://biketahoe.org
X-WR-CALDESC:Events for Bike Tahoe
REFRESH-INTERVAL;VALUE=DURATION:PT1H
X-Robots-Tag:noindex
X-PUBLISHED-TTL:PT1H
BEGIN:VTIMEZONE
TZID:UTC
BEGIN:STANDARD
TZOFFSETFROM:+0000
TZOFFSETTO:+0000
TZNAME:UTC
DTSTART:20240101T000000
END:STANDARD
END:VTIMEZONE
BEGIN:VEVENT
DTSTART;VALUE=DATE:20250907
DTEND;VALUE=DATE:20250908
DTSTAMP:20260421T193826
CREATED:20250728T170351Z
LAST-MODIFIED:20250728T170451Z
UID:5335-1757203200-1757289599@biketahoe.org
SUMMARY:Rose to Toads Mountain Bike Challenge
DESCRIPTION:The Rose to Toads Mountain Bike Challenge is on for 2025! \nOver 62 miles in length with 9\,000+ feet of climbing and 11\,000+ feet of descent\, this is the most amazing (and tough) mountain bike ride. What started off as a hair-brained idea with a few friends many years ago\, before TAMBA’s rebirth\, is now one of our signature events that attracts crazy people from all over the country. It takes most people all day to complete the ride and showcases some of the best trails linking Lake Tahoe’s North Shore from Mount Rose down to the South Shore\, ending on the famous Mr. Toads Wild Ride. This is not a race but the ride can be as intense as you want it to be. Join us and be part of something awesome! \nThere will be three rest stops along the route\, as well as a finish line celebration. The first rest stop will be at Spooner Lake State Park\, the second one just past Kingsbury Grade\, and a final\, smaller on with limited supplies at Armstrong Pass. \nDISCLAIMER: This ride is self-supported.  There is no sweep or sag and you need to be prepared for anything. \nRegistration Opens July 30\, 2025 to Current TAMBA Members \nVisit the Rose to Toad’s website for complete details.
URL:https://biketahoe.org/event/rose-to-toads-mountain-bike-challenge/
CATEGORIES:Bike Festivals,Mountain Bike,Mountain Bike Race
ATTACH;FMTTYPE=image/jpeg:https://biketahoe.org/wp-content/uploads/2025/07/rose-to-toads-tahoe-mountain-bike-challenge.jpg
END:VEVENT
END:VCALENDAR