BEGIN:VCALENDAR
VERSION:2.0
PRODID:-//Bike Tahoe - ECPv6.15.20//NONSGML v1.0//EN
CALSCALE:GREGORIAN
METHOD:PUBLISH
X-ORIGINAL-URL:https://biketahoe.org
X-WR-CALDESC:Events for Bike Tahoe
REFRESH-INTERVAL;VALUE=DURATION:PT1H
X-Robots-Tag:noindex
X-PUBLISHED-TTL:PT1H
BEGIN:VTIMEZONE
TZID:UTC
BEGIN:STANDARD
TZOFFSETFROM:+0000
TZOFFSETTO:+0000
TZNAME:UTC
DTSTART:20240101T000000
END:STANDARD
END:VTIMEZONE
BEGIN:VEVENT
DTSTART;TZID=UTC:20250804T170000
DTEND;TZID=UTC:20250804T190000
DTSTAMP:20260421T191554
CREATED:20250630T191037Z
LAST-MODIFIED:20250630T191037Z
UID:5304-1754326800-1754334000@biketahoe.org
SUMMARY:Olympic Bike Shop Group Ride
DESCRIPTION:Join us from the shop every Monday night at 5pm for a group MTB ride. Ride ability level and host vary by week.\nVisit our event page for details and location of each week’s ride.
URL:https://biketahoe.org/event/olympic-bike-shop-group-ride/2025-08-04/
LOCATION:Olympic Bike Shop\, 620 N Lake Blvd\, Tahoe City\, CA\, 96145\, United States
CATEGORIES:Group Ride,Mountain Bike
ATTACH;FMTTYPE=image/jpeg:https://biketahoe.org/wp-content/uploads/2025/06/olympic-bike-shop-grouo-rides.jpg
END:VEVENT
BEGIN:VEVENT
DTSTART;TZID=UTC:20250806T090000
DTEND;TZID=UTC:20250806T120000
DTSTAMP:20260421T191554
CREATED:20250617T203317Z
LAST-MODIFIED:20250630T182743Z
UID:5259-1754470800-1754481600@biketahoe.org
SUMMARY:Truckee Bike Park Kids Bike Skills Camps
DESCRIPTION:Truckee Bike Park Kids Bike Skill Building Camp: Ages (8-17). Our Skills Camps encourage all riders at every skill level; beginner\, intermediate\, or expert to build their skills\, boost their confidence\, and progress their riding in an inclusive\, fun park environment. We will help your child progress and improve on their fundamental skills\, cornering techniques\, pumping rhythms\, jumping safely\, and much more!  \nThe camp meets Wednesdays and Thursdays for 6 weeks throughout the summer.  \nSign up for one\, or many of our summer session dates!
URL:https://biketahoe.org/event/truckee-bike-park-kids-bike-skills-camps/2025-08-06/
LOCATION:Truckee Bike Park\, 12200 Joerger Dr\, Truckee\, CA\, 96161\, United States
CATEGORIES:Dirt Jump/BMX,Kid's Events,Mountain Bike,Skills Clinic,Truckee Bike Park
ATTACH;FMTTYPE=image/png:https://biketahoe.org/wp-content/uploads/2025/06/truckee-bike-park-kids-skills-camps.png
END:VEVENT
BEGIN:VEVENT
DTSTART;TZID=UTC:20250807T090000
DTEND;TZID=UTC:20250807T120000
DTSTAMP:20260421T191554
CREATED:20250617T203317Z
LAST-MODIFIED:20250630T182743Z
UID:5260-1754557200-1754568000@biketahoe.org
SUMMARY:Truckee Bike Park Kids Bike Skills Camps
DESCRIPTION:Truckee Bike Park Kids Bike Skill Building Camp: Ages (8-17). Our Skills Camps encourage all riders at every skill level; beginner\, intermediate\, or expert to build their skills\, boost their confidence\, and progress their riding in an inclusive\, fun park environment. We will help your child progress and improve on their fundamental skills\, cornering techniques\, pumping rhythms\, jumping safely\, and much more!  \nThe camp meets Wednesdays and Thursdays for 6 weeks throughout the summer.  \nSign up for one\, or many of our summer session dates!
URL:https://biketahoe.org/event/truckee-bike-park-kids-bike-skills-camps/2025-08-07/
LOCATION:Truckee Bike Park\, 12200 Joerger Dr\, Truckee\, CA\, 96161\, United States
CATEGORIES:Dirt Jump/BMX,Kid's Events,Mountain Bike,Skills Clinic,Truckee Bike Park
ATTACH;FMTTYPE=image/png:https://biketahoe.org/wp-content/uploads/2025/06/truckee-bike-park-kids-skills-camps.png
END:VEVENT
BEGIN:VEVENT
DTSTART;VALUE=DATE:20250810
DTEND;VALUE=DATE:20250811
DTSTAMP:20260421T191554
CREATED:20250617T194938Z
LAST-MODIFIED:20250630T182822Z
UID:5227-1754784000-1754870399@biketahoe.org
SUMMARY:Northstar Downhill Race Series: Sticks & Stones
DESCRIPTION:The Northstar Downhill Series is where the fastest\, most fearless riders come to compete. It’s not just about the race — it’s about pushing limits\, taking risks\, and claiming your place among the best in the sport. \nWith five epic Sundays of head-to-head racing across Northstar’s legendary trails\, the Northstar Downhill Series is the ultimate showdown. Take your shot at the podium\, connect with a community of riders who share your passion for speed\, and take home more than just bragging rights — claim your spot as a champion and register today!
URL:https://biketahoe.org/event/downhill-race-series-sticks-stones-course/
LOCATION:Northstar California\, 5001 Northstar Dr\, Truckee\, CA\, 96161\, United States
CATEGORIES:Mountain Bike,Mountain Bike Race,Northstar Bike Park
ATTACH;FMTTYPE=image/jpeg:https://biketahoe.org/wp-content/uploads/2025/05/northstar-california-downhill-series.jpg
END:VEVENT
BEGIN:VEVENT
DTSTART;TZID=UTC:20250811T170000
DTEND;TZID=UTC:20250811T190000
DTSTAMP:20260421T191554
CREATED:20250630T191037Z
LAST-MODIFIED:20250630T191037Z
UID:5305-1754931600-1754938800@biketahoe.org
SUMMARY:Olympic Bike Shop Group Ride
DESCRIPTION:Join us from the shop every Monday night at 5pm for a group MTB ride. Ride ability level and host vary by week.\nVisit our event page for details and location of each week’s ride.
URL:https://biketahoe.org/event/olympic-bike-shop-group-ride/2025-08-11/
LOCATION:Olympic Bike Shop\, 620 N Lake Blvd\, Tahoe City\, CA\, 96145\, United States
CATEGORIES:Group Ride,Mountain Bike
ATTACH;FMTTYPE=image/jpeg:https://biketahoe.org/wp-content/uploads/2025/06/olympic-bike-shop-grouo-rides.jpg
END:VEVENT
BEGIN:VEVENT
DTSTART;TZID=UTC:20250813T090000
DTEND;TZID=UTC:20250813T120000
DTSTAMP:20260421T191554
CREATED:20250617T203317Z
LAST-MODIFIED:20250630T182744Z
UID:5261-1755075600-1755086400@biketahoe.org
SUMMARY:Truckee Bike Park Kids Bike Skills Camps
DESCRIPTION:Truckee Bike Park Kids Bike Skill Building Camp: Ages (8-17). Our Skills Camps encourage all riders at every skill level; beginner\, intermediate\, or expert to build their skills\, boost their confidence\, and progress their riding in an inclusive\, fun park environment. We will help your child progress and improve on their fundamental skills\, cornering techniques\, pumping rhythms\, jumping safely\, and much more!  \nThe camp meets Wednesdays and Thursdays for 6 weeks throughout the summer.  \nSign up for one\, or many of our summer session dates!
URL:https://biketahoe.org/event/truckee-bike-park-kids-bike-skills-camps/2025-08-13/
LOCATION:Truckee Bike Park\, 12200 Joerger Dr\, Truckee\, CA\, 96161\, United States
CATEGORIES:Dirt Jump/BMX,Kid's Events,Mountain Bike,Skills Clinic,Truckee Bike Park
ATTACH;FMTTYPE=image/png:https://biketahoe.org/wp-content/uploads/2025/06/truckee-bike-park-kids-skills-camps.png
END:VEVENT
BEGIN:VEVENT
DTSTART;TZID=UTC:20250814T090000
DTEND;TZID=UTC:20250814T120000
DTSTAMP:20260421T191554
CREATED:20250617T203317Z
LAST-MODIFIED:20250630T182747Z
UID:5263-1755162000-1755172800@biketahoe.org
SUMMARY:Truckee Bike Park Kids Bike Skills Camps
DESCRIPTION:Truckee Bike Park Kids Bike Skill Building Camp: Ages (8-17). Our Skills Camps encourage all riders at every skill level; beginner\, intermediate\, or expert to build their skills\, boost their confidence\, and progress their riding in an inclusive\, fun park environment. We will help your child progress and improve on their fundamental skills\, cornering techniques\, pumping rhythms\, jumping safely\, and much more!  \nThe camp meets Wednesdays and Thursdays for 6 weeks throughout the summer.  \nSign up for one\, or many of our summer session dates!
URL:https://biketahoe.org/event/truckee-bike-park-kids-bike-skills-camps/2025-08-14/
LOCATION:Truckee Bike Park\, 12200 Joerger Dr\, Truckee\, CA\, 96161\, United States
CATEGORIES:Dirt Jump/BMX,Kid's Events,Mountain Bike,Skills Clinic,Truckee Bike Park
ATTACH;FMTTYPE=image/png:https://biketahoe.org/wp-content/uploads/2025/06/truckee-bike-park-kids-skills-camps.png
END:VEVENT
BEGIN:VEVENT
DTSTART;TZID=UTC:20250816T090000
DTEND;TZID=UTC:20250816T140000
DTSTAMP:20260421T191554
CREATED:20250808T173119Z
LAST-MODIFIED:20250808T181811Z
UID:5420-1755334800-1755352800@biketahoe.org
SUMMARY:Meeks Bay Ridge Trail Build & Campout
DESCRIPTION:TAMBA hosts the Meeks Bay Ridge Community Campout at Sugar Pine Point Campground for volunteers who help with the new Meeks Ridge Trail build. Free camping after a day building trail! Trail work from 9am to 2pm. \n\nTrail Work\nMountain Biking\nBBQ\nRaffle\n\nMeet at Sugar Pine Point 9am.
URL:https://biketahoe.org/event/meeks-bay-ridge-trail-build-campout/
LOCATION:Sugar Pine Point Campground\, 7585 CA-89\, Tahoma\, 96142\, United States
CATEGORIES:Community Event,Mountain Bike,Trail Maintenance
ATTACH;FMTTYPE=image/png:https://biketahoe.org/wp-content/uploads/2025/08/meeks-ridge-trail-build-campout.png
END:VEVENT
BEGIN:VEVENT
DTSTART;TZID=UTC:20250818T170000
DTEND;TZID=UTC:20250818T190000
DTSTAMP:20260421T191554
CREATED:20250630T191037Z
LAST-MODIFIED:20250630T191037Z
UID:5306-1755536400-1755543600@biketahoe.org
SUMMARY:Olympic Bike Shop Group Ride
DESCRIPTION:Join us from the shop every Monday night at 5pm for a group MTB ride. Ride ability level and host vary by week.\nVisit our event page for details and location of each week’s ride.
URL:https://biketahoe.org/event/olympic-bike-shop-group-ride/2025-08-18/
LOCATION:Olympic Bike Shop\, 620 N Lake Blvd\, Tahoe City\, CA\, 96145\, United States
CATEGORIES:Group Ride,Mountain Bike
ATTACH;FMTTYPE=image/jpeg:https://biketahoe.org/wp-content/uploads/2025/06/olympic-bike-shop-grouo-rides.jpg
END:VEVENT
BEGIN:VEVENT
DTSTART;TZID=UTC:20250820T170000
DTEND;TZID=UTC:20250820T193000
DTSTAMP:20260421T191554
CREATED:20250605T003931Z
LAST-MODIFIED:20250630T182633Z
UID:5091-1755709200-1755718200@biketahoe.org
SUMMARY:Sky Tavern Women's Skills Clinic
DESCRIPTION:Sky Tavern Riders in the Sky Girls’s and Women’s mountain bike skills clinics are led by professional\, certified mountain bike coaches. Affordably priced for accessibility to the community\, students will learn on-trail fundamentals and progressive techniques while building confidence\, all in the name of FUN! Our programs are specifically designed for Women-Inclusive\, Youth (ages 8-13)\, and Open classes.
URL:https://biketahoe.org/event/riders-in-the-sky-womens-skills-clinic/
LOCATION:Sky Tavern Bike Park\, 21130 Mt Rose Hwy\, Reno\, NV\, 89511\, United States
CATEGORIES:Mountain Bike,Skills Clinic,Sky Tavern Bike Park,Women's Event
ATTACH;FMTTYPE=image/png:https://biketahoe.org/wp-content/uploads/2025/06/sky-tavern-mtb-skills-clinic-women.png
END:VEVENT
BEGIN:VEVENT
DTSTART;VALUE=DATE:20250823
DTEND;VALUE=DATE:20250824
DTSTAMP:20260421T191554
CREATED:20250424T183229Z
LAST-MODIFIED:20250630T182609Z
UID:4573-1755907200-1755993599@biketahoe.org
SUMMARY:Northstar Enduro\, California Enduro Series
DESCRIPTION:The 2025 California Enduro Series season consists of five diverse races for beginner through pro.
URL:https://biketahoe.org/event/northstar-enduro-california-enduro-series/
LOCATION:Northstar California\, 5001 Northstar Dr\, Truckee\, CA\, 96161\, United States
CATEGORIES:Mountain Bike,Mountain Bike Race
ATTACH;FMTTYPE=image/jpeg:https://biketahoe.org/wp-content/uploads/2025/04/northstar-california-enduro.jpg
END:VEVENT
BEGIN:VEVENT
DTSTART;VALUE=DATE:20250823
DTEND;VALUE=DATE:20250824
DTSTAMP:20260421T191554
CREATED:20250808T171556Z
LAST-MODIFIED:20250808T171556Z
UID:5416-1755907200-1755993599@biketahoe.org
SUMMARY:CVTA Spoker Ride
DESCRIPTION:Registration is open for the Carson Valley Trails Association’s first ever Spoker Ride to be held August 23rd at James Lee Park in Indian Hills! \nAll ages and abilities welcome at this 10 mile poker run mountain bike ride through well groomed CVTA trails. Jokers are wild and the top three winning hands will receive prize packages of cash\, merchandise and gift certificates from local sponsors. \nWe will have food and beverage vending after the ride by Bubbly’s Kitchen and Double Barrel Draft Wagon. \nRegistor online here
URL:https://biketahoe.org/event/cvta-spoker-ride/
LOCATION:James Lee Park\, James Lee Park Rd\, Carson Valley\, 89705\, United States
CATEGORIES:Community Event,Mountain Bike,Mountain Bike Race,XC Race
ATTACH;FMTTYPE=image/png:https://biketahoe.org/wp-content/uploads/2025/08/poker-ride.png
END:VEVENT
BEGIN:VEVENT
DTSTART;VALUE=DATE:20250824
DTEND;VALUE=DATE:20250825
DTSTAMP:20260421T191554
CREATED:20250424T183411Z
LAST-MODIFIED:20250630T182551Z
UID:4576-1755993600-1756079999@biketahoe.org
SUMMARY:Northstar Enduro\, California Enduro Series
DESCRIPTION:The 2025 California Enduro Series season consists of five diverse races for beginner through pro.
URL:https://biketahoe.org/event/northstar-enduro-california-enduro-series-2/
LOCATION:Northstar California\, 5001 Northstar Dr\, Truckee\, CA\, 96161\, United States
CATEGORIES:Mountain Bike,Mountain Bike Race
ATTACH;FMTTYPE=image/jpeg:https://biketahoe.org/wp-content/uploads/2025/04/northstar-california-enduro.jpg
END:VEVENT
BEGIN:VEVENT
DTSTART;TZID=UTC:20250825T170000
DTEND;TZID=UTC:20250825T190000
DTSTAMP:20260421T191554
CREATED:20250630T191037Z
LAST-MODIFIED:20250630T191037Z
UID:5307-1756141200-1756148400@biketahoe.org
SUMMARY:Olympic Bike Shop Group Ride
DESCRIPTION:Join us from the shop every Monday night at 5pm for a group MTB ride. Ride ability level and host vary by week.\nVisit our event page for details and location of each week’s ride.
URL:https://biketahoe.org/event/olympic-bike-shop-group-ride/2025-08-25/
LOCATION:Olympic Bike Shop\, 620 N Lake Blvd\, Tahoe City\, CA\, 96145\, United States
CATEGORIES:Group Ride,Mountain Bike
ATTACH;FMTTYPE=image/jpeg:https://biketahoe.org/wp-content/uploads/2025/06/olympic-bike-shop-grouo-rides.jpg
END:VEVENT
BEGIN:VEVENT
DTSTART;VALUE=DATE:20250831
DTEND;VALUE=DATE:20250902
DTSTAMP:20260421T191554
CREATED:20250617T200104Z
LAST-MODIFIED:20250630T182518Z
UID:5231-1756598400-1756771199@biketahoe.org
SUMMARY:Northstar Livewire Classic Downhill Race
DESCRIPTION:The Northstar Downhill Series is where the fastest\, most fearless riders come to compete. It’s not just about the race — it’s about pushing limits\, taking risks\, and claiming your place among the best in the sport.  \nThe Livewire Classic is the ultimate showdown. Take your shot at the podium\, connect with a community of riders who share your passion for speed\, and take home more than just bragging rights — claim your spot as a champion and register today!
URL:https://biketahoe.org/event/livewire-classic-downhill-race/
LOCATION:Northstar California\, 5001 Northstar Dr\, Truckee\, CA\, 96161\, United States
CATEGORIES:Mountain Bike,Mountain Bike Race,Northstar Bike Park
ATTACH;FMTTYPE=image/png:https://biketahoe.org/wp-content/uploads/2025/06/northstar-livewire-classic-dh-race.png
END:VEVENT
END:VCALENDAR