BEGIN:VCALENDAR
VERSION:2.0
PRODID:-//Bike Tahoe - ECPv6.15.20//NONSGML v1.0//EN
CALSCALE:GREGORIAN
METHOD:PUBLISH
X-WR-CALNAME:Bike Tahoe
X-ORIGINAL-URL:https://biketahoe.org
X-WR-CALDESC:Events for Bike Tahoe
REFRESH-INTERVAL;VALUE=DURATION:PT1H
X-Robots-Tag:noindex
X-PUBLISHED-TTL:PT1H
BEGIN:VTIMEZONE
TZID:UTC
BEGIN:STANDARD
TZOFFSETFROM:+0000
TZOFFSETTO:+0000
TZNAME:UTC
DTSTART:20240101T000000
END:STANDARD
END:VTIMEZONE
BEGIN:VEVENT
DTSTART;TZID=UTC:20250703T170000
DTEND;TZID=UTC:20250703T200000
DTSTAMP:20260421T210111
CREATED:20250605T003530Z
LAST-MODIFIED:20250617T200648Z
UID:5096-1751562000-1751572800@biketahoe.org
SUMMARY:Sky Tavern Women's Skills Clinic
DESCRIPTION:Sky Tavern Riders in the Sky Girls’s and Women’s mountain bike skills clinics are led by professional\, certified mountain bike coaches. Affordably priced for accessibility to the community\, students will learn on-trail fundamentals and progressive techniques while building confidence\, all in the name of FUN! Our programs are specifically designed for Women-Inclusive\, Youth (ages 8-13)\, and Open classes.
URL:https://biketahoe.org/event/riders-in-the-sky-womens-clinic/2025-07-03/
LOCATION:Sky Tavern Bike Park\, 21130 Mt Rose Hwy\, Reno\, NV\, 89511\, United States
CATEGORIES:Mountain Bike,Skills Clinic,Sky Tavern Bike Park,Women's Event
ATTACH;FMTTYPE=image/png:https://biketahoe.org/wp-content/uploads/2025/06/sky-tavern-mtb-skills-clinic-women.png
END:VEVENT
BEGIN:VEVENT
DTSTART;TZID=UTC:20250707T170000
DTEND;TZID=UTC:20250707T190000
DTSTAMP:20260421T210111
CREATED:20250630T191037Z
LAST-MODIFIED:20250630T191037Z
UID:5298-1751907600-1751914800@biketahoe.org
SUMMARY:Olympic Bike Shop Group Ride
DESCRIPTION:Join us from the shop every Monday night at 5pm for a group MTB ride. Ride ability level and host vary by week.\nVisit our event page for details and location of each week’s ride.
URL:https://biketahoe.org/event/olympic-bike-shop-group-ride/2025-07-07/
LOCATION:Olympic Bike Shop\, 620 N Lake Blvd\, Tahoe City\, CA\, 96145\, United States
CATEGORIES:Group Ride,Mountain Bike
ATTACH;FMTTYPE=image/jpeg:https://biketahoe.org/wp-content/uploads/2025/06/olympic-bike-shop-grouo-rides.jpg
END:VEVENT
BEGIN:VEVENT
DTSTART;TZID=UTC:20250709T090000
DTEND;TZID=UTC:20250709T120000
DTSTAMP:20260421T210111
CREATED:20250617T203317Z
LAST-MODIFIED:20250630T182741Z
UID:5249-1752051600-1752062400@biketahoe.org
SUMMARY:Truckee Bike Park Kids Bike Skills Camps
DESCRIPTION:Truckee Bike Park Kids Bike Skill Building Camp: Ages (8-17). Our Skills Camps encourage all riders at every skill level; beginner\, intermediate\, or expert to build their skills\, boost their confidence\, and progress their riding in an inclusive\, fun park environment. We will help your child progress and improve on their fundamental skills\, cornering techniques\, pumping rhythms\, jumping safely\, and much more!  \nThe camp meets Wednesdays and Thursdays for 6 weeks throughout the summer.  \nSign up for one\, or many of our summer session dates!
URL:https://biketahoe.org/event/truckee-bike-park-kids-bike-skills-camps/2025-07-09/
LOCATION:Truckee Bike Park\, 12200 Joerger Dr\, Truckee\, CA\, 96161\, United States
CATEGORIES:Dirt Jump/BMX,Kid's Events,Mountain Bike,Skills Clinic,Truckee Bike Park
ATTACH;FMTTYPE=image/png:https://biketahoe.org/wp-content/uploads/2025/06/truckee-bike-park-kids-skills-camps.png
END:VEVENT
BEGIN:VEVENT
DTSTART;TZID=UTC:20250710T090000
DTEND;TZID=UTC:20250710T120000
DTSTAMP:20260421T210111
CREATED:20250617T203317Z
LAST-MODIFIED:20250630T182741Z
UID:5252-1752138000-1752148800@biketahoe.org
SUMMARY:Truckee Bike Park Kids Bike Skills Camps
DESCRIPTION:Truckee Bike Park Kids Bike Skill Building Camp: Ages (8-17). Our Skills Camps encourage all riders at every skill level; beginner\, intermediate\, or expert to build their skills\, boost their confidence\, and progress their riding in an inclusive\, fun park environment. We will help your child progress and improve on their fundamental skills\, cornering techniques\, pumping rhythms\, jumping safely\, and much more!  \nThe camp meets Wednesdays and Thursdays for 6 weeks throughout the summer.  \nSign up for one\, or many of our summer session dates!
URL:https://biketahoe.org/event/truckee-bike-park-kids-bike-skills-camps/2025-07-10/
LOCATION:Truckee Bike Park\, 12200 Joerger Dr\, Truckee\, CA\, 96161\, United States
CATEGORIES:Dirt Jump/BMX,Kid's Events,Mountain Bike,Skills Clinic,Truckee Bike Park
ATTACH;FMTTYPE=image/png:https://biketahoe.org/wp-content/uploads/2025/06/truckee-bike-park-kids-skills-camps.png
END:VEVENT
BEGIN:VEVENT
DTSTART;TZID=UTC:20250714T170000
DTEND;TZID=UTC:20250714T190000
DTSTAMP:20260421T210111
CREATED:20250630T191037Z
LAST-MODIFIED:20250630T191037Z
UID:5301-1752512400-1752519600@biketahoe.org
SUMMARY:Olympic Bike Shop Group Ride
DESCRIPTION:Join us from the shop every Monday night at 5pm for a group MTB ride. Ride ability level and host vary by week.\nVisit our event page for details and location of each week’s ride.
URL:https://biketahoe.org/event/olympic-bike-shop-group-ride/2025-07-14/
LOCATION:Olympic Bike Shop\, 620 N Lake Blvd\, Tahoe City\, CA\, 96145\, United States
CATEGORIES:Group Ride,Mountain Bike
ATTACH;FMTTYPE=image/jpeg:https://biketahoe.org/wp-content/uploads/2025/06/olympic-bike-shop-grouo-rides.jpg
END:VEVENT
BEGIN:VEVENT
DTSTART;TZID=UTC:20250716T090000
DTEND;TZID=UTC:20250716T120000
DTSTAMP:20260421T210111
CREATED:20250617T203317Z
LAST-MODIFIED:20250630T182742Z
UID:5253-1752656400-1752667200@biketahoe.org
SUMMARY:Truckee Bike Park Kids Bike Skills Camps
DESCRIPTION:Truckee Bike Park Kids Bike Skill Building Camp: Ages (8-17). Our Skills Camps encourage all riders at every skill level; beginner\, intermediate\, or expert to build their skills\, boost their confidence\, and progress their riding in an inclusive\, fun park environment. We will help your child progress and improve on their fundamental skills\, cornering techniques\, pumping rhythms\, jumping safely\, and much more!  \nThe camp meets Wednesdays and Thursdays for 6 weeks throughout the summer.  \nSign up for one\, or many of our summer session dates!
URL:https://biketahoe.org/event/truckee-bike-park-kids-bike-skills-camps/2025-07-16/
LOCATION:Truckee Bike Park\, 12200 Joerger Dr\, Truckee\, CA\, 96161\, United States
CATEGORIES:Dirt Jump/BMX,Kid's Events,Mountain Bike,Skills Clinic,Truckee Bike Park
ATTACH;FMTTYPE=image/png:https://biketahoe.org/wp-content/uploads/2025/06/truckee-bike-park-kids-skills-camps.png
END:VEVENT
BEGIN:VEVENT
DTSTART;TZID=UTC:20250717T090000
DTEND;TZID=UTC:20250717T120000
DTSTAMP:20260421T210111
CREATED:20250617T203317Z
LAST-MODIFIED:20250630T182742Z
UID:5254-1752742800-1752753600@biketahoe.org
SUMMARY:Truckee Bike Park Kids Bike Skills Camps
DESCRIPTION:Truckee Bike Park Kids Bike Skill Building Camp: Ages (8-17). Our Skills Camps encourage all riders at every skill level; beginner\, intermediate\, or expert to build their skills\, boost their confidence\, and progress their riding in an inclusive\, fun park environment. We will help your child progress and improve on their fundamental skills\, cornering techniques\, pumping rhythms\, jumping safely\, and much more!  \nThe camp meets Wednesdays and Thursdays for 6 weeks throughout the summer.  \nSign up for one\, or many of our summer session dates!
URL:https://biketahoe.org/event/truckee-bike-park-kids-bike-skills-camps/2025-07-17/
LOCATION:Truckee Bike Park\, 12200 Joerger Dr\, Truckee\, CA\, 96161\, United States
CATEGORIES:Dirt Jump/BMX,Kid's Events,Mountain Bike,Skills Clinic,Truckee Bike Park
ATTACH;FMTTYPE=image/png:https://biketahoe.org/wp-content/uploads/2025/06/truckee-bike-park-kids-skills-camps.png
END:VEVENT
BEGIN:VEVENT
DTSTART;TZID=UTC:20250717T170000
DTEND;TZID=UTC:20250717T200000
DTSTAMP:20260421T210111
CREATED:20250605T003530Z
LAST-MODIFIED:20250617T200648Z
UID:5089-1752771600-1752782400@biketahoe.org
SUMMARY:Sky Tavern Women's Skills Clinic
DESCRIPTION:Sky Tavern Riders in the Sky Girls’s and Women’s mountain bike skills clinics are led by professional\, certified mountain bike coaches. Affordably priced for accessibility to the community\, students will learn on-trail fundamentals and progressive techniques while building confidence\, all in the name of FUN! Our programs are specifically designed for Women-Inclusive\, Youth (ages 8-13)\, and Open classes.
URL:https://biketahoe.org/event/riders-in-the-sky-womens-clinic/2025-07-17/
LOCATION:Sky Tavern Bike Park\, 21130 Mt Rose Hwy\, Reno\, NV\, 89511\, United States
CATEGORIES:Mountain Bike,Skills Clinic,Sky Tavern Bike Park,Women's Event
ATTACH;FMTTYPE=image/png:https://biketahoe.org/wp-content/uploads/2025/06/sky-tavern-mtb-skills-clinic-women.png
END:VEVENT
BEGIN:VEVENT
DTSTART;VALUE=DATE:20250719
DTEND;VALUE=DATE:20250721
DTSTAMP:20260421T210111
CREATED:20250424T180912Z
LAST-MODIFIED:20250630T183011Z
UID:4565-1752883200-1753055999@biketahoe.org
SUMMARY:Tahoe Trail 100 Leadville Race Series
DESCRIPTION:Straddling the borders of Nevada and California\, the Sierra Nevada is a mountain biker’s dream. LIFE TIME Tahoe Trail\, Leadville 100 Race Series\, hosted by Northstar California\, offers athletes a 2-loop\, 50 kilometer course filled with beautiful views of Lake Tahoe. Rocky summits and breathtaking pine forests are found in every direction from the host location of Northstar California. \n\n50K or 100K distance\nLeadville Trail 100 MTB qualifier\nSingletrack\, Jeep roads\, exciting descents\n6\,000+ ft elevation gain (100K)\n800 riders\nEstablished 2011\n\n“The Lake Tahoe area and this course are simply spectacular. Sweeping views (that incidentally you may never have a chance to look at) and a fun and challenging course. There’s a good bit of fast\, fun and flowy trail riding and plenty of hills to let you know where you stand with your training. While it’s not at 10\,200 feet\, the approximately 6\,000 to 8\,000 feet of elevation will give you a taste of thinner air and begin your acclimatization process for the Leadville Trail 100 MTB.”
URL:https://biketahoe.org/event/tahoe-trail-leadville-100-race-series/
LOCATION:Northstar California\, 5001 Northstar Dr\, Truckee\, CA\, 96161\, United States
CATEGORIES:Mountain Bike,Mountain Bike Race,XC Race
ATTACH;FMTTYPE=image/jpeg:https://biketahoe.org/wp-content/uploads/2025/04/tahoe-traail-leadville-series.jpg
END:VEVENT
BEGIN:VEVENT
DTSTART;TZID=UTC:20250721T170000
DTEND;TZID=UTC:20250721T190000
DTSTAMP:20260421T210111
CREATED:20250630T191037Z
LAST-MODIFIED:20250630T191037Z
UID:5302-1753117200-1753124400@biketahoe.org
SUMMARY:Olympic Bike Shop Group Ride
DESCRIPTION:Join us from the shop every Monday night at 5pm for a group MTB ride. Ride ability level and host vary by week.\nVisit our event page for details and location of each week’s ride.
URL:https://biketahoe.org/event/olympic-bike-shop-group-ride/2025-07-21/
LOCATION:Olympic Bike Shop\, 620 N Lake Blvd\, Tahoe City\, CA\, 96145\, United States
CATEGORIES:Group Ride,Mountain Bike
ATTACH;FMTTYPE=image/jpeg:https://biketahoe.org/wp-content/uploads/2025/06/olympic-bike-shop-grouo-rides.jpg
END:VEVENT
BEGIN:VEVENT
DTSTART;TZID=UTC:20250723T090000
DTEND;TZID=UTC:20250723T120000
DTSTAMP:20260421T210111
CREATED:20250617T203317Z
LAST-MODIFIED:20250630T182742Z
UID:5255-1753261200-1753272000@biketahoe.org
SUMMARY:Truckee Bike Park Kids Bike Skills Camps
DESCRIPTION:Truckee Bike Park Kids Bike Skill Building Camp: Ages (8-17). Our Skills Camps encourage all riders at every skill level; beginner\, intermediate\, or expert to build their skills\, boost their confidence\, and progress their riding in an inclusive\, fun park environment. We will help your child progress and improve on their fundamental skills\, cornering techniques\, pumping rhythms\, jumping safely\, and much more!  \nThe camp meets Wednesdays and Thursdays for 6 weeks throughout the summer.  \nSign up for one\, or many of our summer session dates!
URL:https://biketahoe.org/event/truckee-bike-park-kids-bike-skills-camps/2025-07-23/
LOCATION:Truckee Bike Park\, 12200 Joerger Dr\, Truckee\, CA\, 96161\, United States
CATEGORIES:Dirt Jump/BMX,Kid's Events,Mountain Bike,Skills Clinic,Truckee Bike Park
ATTACH;FMTTYPE=image/png:https://biketahoe.org/wp-content/uploads/2025/06/truckee-bike-park-kids-skills-camps.png
END:VEVENT
BEGIN:VEVENT
DTSTART;TZID=UTC:20250724T090000
DTEND;TZID=UTC:20250724T120000
DTSTAMP:20260421T210111
CREATED:20250617T203317Z
LAST-MODIFIED:20250630T182742Z
UID:5256-1753347600-1753358400@biketahoe.org
SUMMARY:Truckee Bike Park Kids Bike Skills Camps
DESCRIPTION:Truckee Bike Park Kids Bike Skill Building Camp: Ages (8-17). Our Skills Camps encourage all riders at every skill level; beginner\, intermediate\, or expert to build their skills\, boost their confidence\, and progress their riding in an inclusive\, fun park environment. We will help your child progress and improve on their fundamental skills\, cornering techniques\, pumping rhythms\, jumping safely\, and much more!  \nThe camp meets Wednesdays and Thursdays for 6 weeks throughout the summer.  \nSign up for one\, or many of our summer session dates!
URL:https://biketahoe.org/event/truckee-bike-park-kids-bike-skills-camps/2025-07-24/
LOCATION:Truckee Bike Park\, 12200 Joerger Dr\, Truckee\, CA\, 96161\, United States
CATEGORIES:Dirt Jump/BMX,Kid's Events,Mountain Bike,Skills Clinic,Truckee Bike Park
ATTACH;FMTTYPE=image/png:https://biketahoe.org/wp-content/uploads/2025/06/truckee-bike-park-kids-skills-camps.png
END:VEVENT
BEGIN:VEVENT
DTSTART;TZID=UTC:20250726T090000
DTEND;TZID=UTC:20250726T170000
DTSTAMP:20260421T210111
CREATED:20250617T204043Z
LAST-MODIFIED:20250630T183054Z
UID:5265-1753520400-1753549200@biketahoe.org
SUMMARY:Sky Tavern x High Fives Foundation Bike-A-Thon
DESCRIPTION:Join us for an action-packed day of riding\, fundraising\, and community fun — all in support of adaptive athletes through the High Fives Foundation! Whether you’re pedaling hard or cheering from the sidelines\, there’s something for everyone. Let’s ride for impact! \n\nRide for a Cause – Complete as many laps as you can and compete for awesome prizes.\nFundraising Raffle – Every dollar you raise earns you entries into a raffle loaded with great prizes.\nTop Fundraiser & Most Laps Awards – Big recognition (and even bigger prizes!) for those who go the extra mile.\nVendor & Food Village – Take a break and enjoy delicious food and shop local vendors throughout the day.
URL:https://biketahoe.org/event/sky-tavern-x-high-fives-foundation-bike-a-thon/
LOCATION:Sky Tavern Bike Park\, 21130 Mt Rose Hwy\, Reno\, NV\, 89511\, United States
CATEGORIES:Community Event,Fundraiser,Kid's Events,Mountain Bike,Mountain Bike Race,Sky Tavern Bike Park,Women's Event
ATTACH;FMTTYPE=image/jpeg:https://biketahoe.org/wp-content/uploads/2025/06/high-fives-foundation-bike-a-thon.jpg
END:VEVENT
BEGIN:VEVENT
DTSTART;TZID=UTC:20250728T170000
DTEND;TZID=UTC:20250728T190000
DTSTAMP:20260421T210111
CREATED:20250630T191037Z
LAST-MODIFIED:20250630T191037Z
UID:5303-1753722000-1753729200@biketahoe.org
SUMMARY:Olympic Bike Shop Group Ride
DESCRIPTION:Join us from the shop every Monday night at 5pm for a group MTB ride. Ride ability level and host vary by week.\nVisit our event page for details and location of each week’s ride.
URL:https://biketahoe.org/event/olympic-bike-shop-group-ride/2025-07-28/
LOCATION:Olympic Bike Shop\, 620 N Lake Blvd\, Tahoe City\, CA\, 96145\, United States
CATEGORIES:Group Ride,Mountain Bike
ATTACH;FMTTYPE=image/jpeg:https://biketahoe.org/wp-content/uploads/2025/06/olympic-bike-shop-grouo-rides.jpg
END:VEVENT
BEGIN:VEVENT
DTSTART;TZID=UTC:20250730T090000
DTEND;TZID=UTC:20250730T120000
DTSTAMP:20260421T210111
CREATED:20250617T203317Z
LAST-MODIFIED:20250630T182743Z
UID:5257-1753866000-1753876800@biketahoe.org
SUMMARY:Truckee Bike Park Kids Bike Skills Camps
DESCRIPTION:Truckee Bike Park Kids Bike Skill Building Camp: Ages (8-17). Our Skills Camps encourage all riders at every skill level; beginner\, intermediate\, or expert to build their skills\, boost their confidence\, and progress their riding in an inclusive\, fun park environment. We will help your child progress and improve on their fundamental skills\, cornering techniques\, pumping rhythms\, jumping safely\, and much more!  \nThe camp meets Wednesdays and Thursdays for 6 weeks throughout the summer.  \nSign up for one\, or many of our summer session dates!
URL:https://biketahoe.org/event/truckee-bike-park-kids-bike-skills-camps/2025-07-30/
LOCATION:Truckee Bike Park\, 12200 Joerger Dr\, Truckee\, CA\, 96161\, United States
CATEGORIES:Dirt Jump/BMX,Kid's Events,Mountain Bike,Skills Clinic,Truckee Bike Park
ATTACH;FMTTYPE=image/png:https://biketahoe.org/wp-content/uploads/2025/06/truckee-bike-park-kids-skills-camps.png
END:VEVENT
BEGIN:VEVENT
DTSTART;TZID=UTC:20250731T090000
DTEND;TZID=UTC:20250731T120000
DTSTAMP:20260421T210111
CREATED:20250617T203317Z
LAST-MODIFIED:20250630T182743Z
UID:5258-1753952400-1753963200@biketahoe.org
SUMMARY:Truckee Bike Park Kids Bike Skills Camps
DESCRIPTION:Truckee Bike Park Kids Bike Skill Building Camp: Ages (8-17). Our Skills Camps encourage all riders at every skill level; beginner\, intermediate\, or expert to build their skills\, boost their confidence\, and progress their riding in an inclusive\, fun park environment. We will help your child progress and improve on their fundamental skills\, cornering techniques\, pumping rhythms\, jumping safely\, and much more!  \nThe camp meets Wednesdays and Thursdays for 6 weeks throughout the summer.  \nSign up for one\, or many of our summer session dates!
URL:https://biketahoe.org/event/truckee-bike-park-kids-bike-skills-camps/2025-07-31/
LOCATION:Truckee Bike Park\, 12200 Joerger Dr\, Truckee\, CA\, 96161\, United States
CATEGORIES:Dirt Jump/BMX,Kid's Events,Mountain Bike,Skills Clinic,Truckee Bike Park
ATTACH;FMTTYPE=image/png:https://biketahoe.org/wp-content/uploads/2025/06/truckee-bike-park-kids-skills-camps.png
END:VEVENT
END:VCALENDAR