BEGIN:VCALENDAR
VERSION:2.0
PRODID:-//Bike Tahoe - ECPv6.15.20//NONSGML v1.0//EN
CALSCALE:GREGORIAN
METHOD:PUBLISH
X-ORIGINAL-URL:https://biketahoe.org
X-WR-CALDESC:Events for Bike Tahoe
REFRESH-INTERVAL;VALUE=DURATION:PT1H
X-Robots-Tag:noindex
X-PUBLISHED-TTL:PT1H
BEGIN:VTIMEZONE
TZID:UTC
BEGIN:STANDARD
TZOFFSETFROM:+0000
TZOFFSETTO:+0000
TZNAME:UTC
DTSTART:20240101T000000
END:STANDARD
END:VTIMEZONE
BEGIN:VEVENT
DTSTART;TZID=UTC:20250726T090000
DTEND;TZID=UTC:20250726T170000
DTSTAMP:20260420T022924
CREATED:20250617T204043Z
LAST-MODIFIED:20250630T183054Z
UID:5265-1753520400-1753549200@biketahoe.org
SUMMARY:Sky Tavern x High Fives Foundation Bike-A-Thon
DESCRIPTION:Join us for an action-packed day of riding\, fundraising\, and community fun — all in support of adaptive athletes through the High Fives Foundation! Whether you’re pedaling hard or cheering from the sidelines\, there’s something for everyone. Let’s ride for impact! \n\nRide for a Cause – Complete as many laps as you can and compete for awesome prizes.\nFundraising Raffle – Every dollar you raise earns you entries into a raffle loaded with great prizes.\nTop Fundraiser & Most Laps Awards – Big recognition (and even bigger prizes!) for those who go the extra mile.\nVendor & Food Village – Take a break and enjoy delicious food and shop local vendors throughout the day.
URL:https://biketahoe.org/event/sky-tavern-x-high-fives-foundation-bike-a-thon/
LOCATION:Sky Tavern Bike Park\, 21130 Mt Rose Hwy\, Reno\, NV\, 89511\, United States
CATEGORIES:Community Event,Fundraiser,Kid's Events,Mountain Bike,Mountain Bike Race,Sky Tavern Bike Park,Women's Event
ATTACH;FMTTYPE=image/jpeg:https://biketahoe.org/wp-content/uploads/2025/06/high-fives-foundation-bike-a-thon.jpg
END:VEVENT
END:VCALENDAR