BEGIN:VCALENDAR
VERSION:2.0
PRODID:-//Bike Tahoe - ECPv6.15.20//NONSGML v1.0//EN
CALSCALE:GREGORIAN
METHOD:PUBLISH
X-ORIGINAL-URL:https://biketahoe.org
X-WR-CALDESC:Events for Bike Tahoe
REFRESH-INTERVAL;VALUE=DURATION:PT1H
X-Robots-Tag:noindex
X-PUBLISHED-TTL:PT1H
BEGIN:VTIMEZONE
TZID:UTC
BEGIN:STANDARD
TZOFFSETFROM:+0000
TZOFFSETTO:+0000
TZNAME:UTC
DTSTART:20240101T000000
END:STANDARD
END:VTIMEZONE
BEGIN:VEVENT
DTSTART;TZID=UTC:20251004T100000
DTEND;TZID=UTC:20251004T160000
DTSTAMP:20260423T161541
CREATED:20250926T135515Z
LAST-MODIFIED:20250926T135654Z
UID:5434-1759572000-1759593600@biketahoe.org
SUMMARY:Truckee Bike Park Trick or Treat Dirt Jam
DESCRIPTION:Join us for the Trick or Treat Dirt Jam at the Truckee Bike Park! This will be a FREE\, end of season event celebrating another great season of the bike park. There will be prizes\, giveaways\, music\, & food trucks.\n\nEvents will include:\n-Pack the Pump Track (youth)-Adult Strider Races (18+)-Upper DJZ Jump Jam-Dual Slalom Battles-Slopestyle Session-Runway 26 Best Tricks(All events will be all ages unless otherwise indicated)
URL:https://biketahoe.org/event/truckee-bike-park-trick-or-treat-dirt-jam/
LOCATION:Truckee Bike Park\, 12200 Joerger Dr\, Truckee\, CA\, 96161\, United States
CATEGORIES:Dirt Jump/BMX,Kid's Events,Music & Concerts
ATTACH;FMTTYPE=image/png:https://biketahoe.org/wp-content/uploads/2025/09/dirt-jam.png
END:VEVENT
END:VCALENDAR