BEGIN:VCALENDAR
VERSION:2.0
PRODID:-//Bike Tahoe - ECPv6.15.20//NONSGML v1.0//EN
CALSCALE:GREGORIAN
METHOD:PUBLISH
X-WR-CALNAME:Bike Tahoe
X-ORIGINAL-URL:https://biketahoe.org
X-WR-CALDESC:Events for Bike Tahoe
REFRESH-INTERVAL;VALUE=DURATION:PT1H
X-Robots-Tag:noindex
X-PUBLISHED-TTL:PT1H
BEGIN:VTIMEZONE
TZID:America/Los_Angeles
BEGIN:DAYLIGHT
TZOFFSETFROM:-0800
TZOFFSETTO:-0700
TZNAME:PDT
DTSTART:20240310T100000
END:DAYLIGHT
BEGIN:STANDARD
TZOFFSETFROM:-0700
TZOFFSETTO:-0800
TZNAME:PST
DTSTART:20241103T090000
END:STANDARD
BEGIN:DAYLIGHT
TZOFFSETFROM:-0800
TZOFFSETTO:-0700
TZNAME:PDT
DTSTART:20250309T100000
END:DAYLIGHT
BEGIN:STANDARD
TZOFFSETFROM:-0700
TZOFFSETTO:-0800
TZNAME:PST
DTSTART:20251102T090000
END:STANDARD
BEGIN:DAYLIGHT
TZOFFSETFROM:-0800
TZOFFSETTO:-0700
TZNAME:PDT
DTSTART:20260308T100000
END:DAYLIGHT
BEGIN:STANDARD
TZOFFSETFROM:-0700
TZOFFSETTO:-0800
TZNAME:PST
DTSTART:20261101T090000
END:STANDARD
END:VTIMEZONE
BEGIN:VEVENT
DTSTART;TZID=America/Los_Angeles:20250621T090000
DTEND;TZID=America/Los_Angeles:20250621T120000
DTSTAMP:20260419T145124
CREATED:20250418T213517Z
LAST-MODIFIED:20250630T183602Z
UID:4518-1750496400-1750507200@biketahoe.org
SUMMARY:Tahoe Mountain Bike Festival - Demo Day
DESCRIPTION:The Tahoe Mountain Bike Festival is a fun\, family-friendly two-day event full of pedaling and community celebration. \nSaturday\, June 21\, 2025 – Bike Demo Day \nThe festival kicks off with a bike Demo Day at the iconic Corral Trail network on Saturday. Come test out all the latest bikes from a wide array of brands and local shops\, as well as enjoying exclusive shuttles to the top of Corral Trail. \nDetails: exclusive shuttles will provide regular access to Corral Trail network—high quality singletrack riding with something for riders of all levels to enjoy. Keep and eye on this page for announcements about which brands will be joining us this year. \nRegistration: both sessions are ticketed events and registration is required to participate. Registration will open in late Spring 2025\, keep an eye on this page for the link and an early bird discount! Registered rides will have access to all the bikes and products at the Demo Day\, as well as the various shuttles. \nSunday\, June 22\, 2025 – Rides and Afternoon Festival \nThe festivities continue on Sunday with the group rides (intermediate and advanced) in the morning\, followed by the afternoon festival at the stunning Tahoe Paradise Park in Meyers\, CA. The FREE afternoon festival features live music\, food trucks and a beer garden\, a vendor village\, raffles\, a Kids’ Zone\, and a healthy dose of competition courtesy of our shenanigans contests!
URL:https://biketahoe.org/event/tahoe-mountain-bike-festival/
LOCATION:Corral Trailhead\, Fountain Place Rd\, South Lake Tahoe\, 96150\, United States
CATEGORIES:Bike Demo Days,Bike Festivals,Mountain Bike,Mountain Bike Race
ATTACH;FMTTYPE=image/png:https://biketahoe.org/wp-content/uploads/2025/04/tahoe-mountain-bike-festival.png
END:VEVENT
END:VCALENDAR